View In:
ArcGIS JavaScript
ArcGIS Online Map Viewer
ArcGIS Earth
ArcGIS Pro
Service Description: <div style='text-align:left;'><p><span style='font-size:16px;'>The United Nations Clear Map (hereinafter “Clear Map”) is a background reference web mapping service produced to facilitate “the issuance of any map at any duty station, including dissemination via public electronic networks such as Internet” and “to ensure that maps meet publication standards and that they are not in contravention of existing United Nations policies” in accordance with the in the Administrative Instruction on “Regulations for the Control and Limitation of Documentation – Guidelines for the Publication of Maps” of 20 January 1997 (http://undocs.org/ST/AI/189/Add.25/Rev.1).</span></p><p><span style='font-size:16px;'>Clear Map is created for the use of the United Nations Secretariat and community. All departments, offices and regional commissions of the United Nations Secretariat including offices away from Headquarters using Clear Map remain bound to the instructions as contained in the Administrative Instruction and should therefore seek clearance from the UN Geospatial Information Section (formerly Cartographic Section) prior to the issuance of their thematic maps using Clear Map as background reference.</span><br /></p><p><span style='font-size:16px;'>DISCLAIMERS:</span></p><p><span style='font-size:16px;'>The designations employed and the presentation of material on this map do not imply the expression of any opinion whatsoever on the part of the Secretariat of the United Nations concerning the legal status of any country, territory, city or area or of its authorities, or concerning the delimitation of its frontiers or boundaries.</span><br /></p><p><span style='font-size:16px;'>Final boundary between the Republic of Sudan the Republic of South Sudan has not yet been determined.</span><br /></p><p><span style='font-size:16px;'>Final status of the Abyei area is not yet determined.</span><br /></p><p><span style='font-size:16px;'>* Dotted line represents approximately the Line of Control in Jammu and Kashmir agreed upon by India and Pakistan. The final status of Jammu and Kashmir has not yet been agreed upon by the parties.</span><br /></p><p><span style='font-size:16px;'>** Chagos Archipelago appears without prejudice to the question of sovereignty.</span><br /></p><p><span style='font-size:16px;'>*** A dispute exists between the Governments of Argentina and the United Kingdom of Great Britain and Northern Ireland concerning sovereignty over the Falkland Islands (Malvinas).</span><br /></p></div>
Map Name: WEBTOPO
Legend
All Layers and Tables
Dynamic Legend
Dynamic All Layers
Layers:
Description: The United Nations Clear Map (hereinafter “Clear Map”) is a background reference web mapping service produced to facilitate “the issuance of any map at any duty station, including dissemination via public electronic networks such as Internet” and “to ensure that maps meet publication standards and that they are not in contravention of existing United Nations policies” in accordance with the in the Administrative Instruction on “Regulations for the Control and Limitation of Documentation – Guidelines for the Publication of Maps” of 20 January 1997 (http://undocs.org/ST/AI/189/Add.25/Rev.1).Clear Map is created for the use of the United Nations Secretariat and community. All departments, offices and regional commissions of the United Nations Secretariat including offices away from Headquarters using Clear Map remain bound to the instructions as contained in the Administrative Instruction and should therefore seek clearance from the UN Geospatial Information Section (formerly Cartographic Section) prior to the issuance of their thematic maps using Clear Map as background reference.DISCLAIMERS:The designations employed and the presentation of material on this map do not imply the expression of any opinion whatsoever on the part of the Secretariat of the United Nations concerning the legal status of any country, territory, city or area or of its authorities, or concerning the delimitation of its frontiers or boundaries.Final boundary between the Republic of Sudan the Republic of South Sudan has not yet been determined.Final status of the Abyei area is not yet determined.* Dotted line represents approximately the Line of Control in Jammu and Kashmir agreed upon by India and Pakistan. The final status of Jammu and Kashmir has not yet been agreed upon by the parties.** Chagos Archipelago appears without prejudice to the question of sovereignty.*** A dispute exists between the Governments of Argentina and the United Kingdom of Great Britain and Northern Ireland concerning sovereignty over the Falkland Islands (Malvinas).
Service Item Id: 34bc79c1c2e54a16a7fbbd1b14db3dda
Copyright Text: Produced by <a href='https://geoportal.un.org/arcgis/home/item.html?id=541557fd0d4d42efb24449be614e6887' target='blank' style='text-decoration: none;'>United Nations Geospatial</a>
Spatial Reference:
102100
(3857)
Single Fused Map Cache: true
Tile Info:
- Height: 256.0
- Width: 256.0
- DPI: 96.0
-
Levels of Detail: 24
-
Level ID: 0
[ Start Tile, End Tile ]
- Resolution: 156543.03392799999
- Scale: 591657527.591555
-
Level ID: 1
[ Start Tile, End Tile ]
- Resolution: 78271.516963999893
- Scale: 295828763.79577702
-
Level ID: 2
[ Start Tile, End Tile ]
- Resolution: 39135.758482000099
- Scale: 147914381.89788899
-
Level ID: 3
[ Start Tile, End Tile ]
- Resolution: 19567.879240999901
- Scale: 73957190.948944002
-
Level ID: 4
[ Start Tile, End Tile ]
- Resolution: 9783.9396204999593
- Scale: 36978595.474472001
-
Level ID: 5
[ Start Tile, End Tile ]
- Resolution: 4891.9698102499797
- Scale: 18489297.737236001
-
Level ID: 6
[ Start Tile, End Tile ]
- Resolution: 2445.9849051249898
- Scale: 9244648.8686180003
-
Level ID: 7
[ Start Tile, End Tile ]
- Resolution: 1222.9924525624899
- Scale: 4622324.4343090001
-
Level ID: 8
[ Start Tile, End Tile ]
- Resolution: 611.49622628138002
- Scale: 2311162.2171550002
-
Level ID: 10
[ Start Tile, End Tile ]
- Resolution: 152.874056570411
- Scale: 577790.55428899999
-
Level ID: 11
[ Start Tile, End Tile ]
- Resolution: 76.437028285073197
- Scale: 288895.27714399999
-
Level ID: 13
[ Start Tile, End Tile ]
- Resolution: 19.109257071268299
- Scale: 72223.819285999998
-
Level ID: 14
[ Start Tile, End Tile ]
- Resolution: 9.5546285356341496
- Scale: 36111.909642999999
-
Level ID: 16
[ Start Tile, End Tile ]
- Resolution: 2.38865713397468
- Scale: 9027.9774109999998
-
Level ID: 17
[ Start Tile, End Tile ]
- Resolution: 1.1943285668550501
- Scale: 4513.9887049999998
-
Level ID: 19
[ Start Tile, End Tile ]
- Resolution: 0.29858214164761698
- Scale: 1128.4971760000001
-
Level ID: 20
[ Start Tile, End Tile ]
- Resolution: 0.14929107082380833
- Scale: 564.24858800000004
-
Level ID: 21
[ Start Tile, End Tile ]
- Resolution: 0.074645535411904163
- Scale: 282.12429400000002
-
Level ID: 22
[ Start Tile, End Tile ]
- Resolution: 0.037322767705952081
- Scale: 141.06214700000001
-
Level ID: 23
[ Start Tile, End Tile ]
- Resolution: 0.018661383852976041
- Scale: 70.531073500000005
- Format: PNG
- Compression Quality: 0.0
- Origin: X: -2.0037508342787E7
Y: 2.0037508342787E7
- Spatial Reference: 102100
(3857)
Storage Info:
- Storage Format: esriMapCacheStorageModeCompactV2
- Packet Size: 128
Initial Extent:
XMin: -4976446.120001327
YMin: -2677715.872767414
XMax: 5094489.062699962
YMax: 5893015.23479055
Spatial Reference: 102100
Full Extent:
XMin: -2.0037507842788287E7
YMin: -2.4252868094374272E8
XMax: 2.0037507842788287E7
YMax: 2.4252868094374272E8
Spatial Reference: 102100
Units: esriMeters
Supported Image Format Types: PNG32,PNG24,PNG,JPG,DIB,TIFF,EMF,PS,PDF,GIF,SVG,SVGZ,BMP
Document Info:
Title: CLEARMAP WEBTOPO
Author:
Comments: CLEARMAP WEBTOPO
Subject: CLEARMAP WEBTOPO
Category:
Keywords: ClearMap WebTopo
AntialiasingMode: Fast
TextAntialiasingMode: Force
Supports Dynamic Layers: true
Resampling: false
MaxRecordCount: 2000
MaxSelectionCount: 2000
MaxImageHeight: 4096
MaxImageWidth: 4096
Supported Query Formats: JSON, geoJSON, PBF
Supports Query Data Elements: true
Min Scale: 591657527.591555
Max Scale: 4622324.4343090001
Max LOD: 7
Supports Datum Transformation: true
Child Resources:
Info
Dynamic Layer
Supported Operations:
Export Map
Identify
QueryLegends
QueryDomains
Find
Return Updates